BEGIN:VCALENDAR
VERSION:2.0
CREATED:20260420T201809Z
PRODID:-//Smithfield Foods\, Inc./Equisolve Calendar v1.0//EN
METHOD:PUBLISH
BEGIN:VEVENT
UID:6206bcf5a952c7ed0e84d7b3916dcaec
DTSTAMP:20260420T234409Z
DTSTART:20260602T120000Z
DTEND:20260602T130000Z
SUMMARY:2026 Annual Meeting of Shareholders
DESCRIPTION:2026 Annual Meeting of Shareholders\n\nDate: Jun 2\, 2026 8:00 am EDT\n\nWebcast: https://east.virtualshareholdermeeting.com/vsm/web?pvskey=SFD2026
END:VEVENT
END:VCALENDAR
